Workbook
Name \P: #REF!
Name №: #REF!
Name 印刷範囲1: #REF!
Name 金額: #REF!
Name 材質・形状・工法: #REF!
Name 数量: #REF!
Name 大意か: #REF!
Name 単位: #REF!
Name 単価: #REF!
Name 摘要: #REF!
Name 内訳: #REF!
Name 内訳明細書: #REF!
Name 名称: #REF!

Sheet 別紙①質問書
B2: 別紙①
D4: 仕様書等に対する質問・回答書
G6: 令和 年 月 日
B10: 岡山県立美術館 管理者 塚本 聡 殿
E13: 所 在 地
E14: 商号又は名称
E15: 代 表 者
E16: （担当者 | I16: ）
E17: （電話番号 | I17: ）
E18: （ＦＡＸ番号 | I18: ）
B20: 公告番号 | D20: 第 ４３４号
B21: 件 名 | D21: 岡山県立美術館で使用する電気の調達
B22: 質問事項
B37: 回答

Sheet 別紙②-ア申請書
B2: 別紙②-ア
A5: 一般競争入札（条件付）参加資格確認申請書
G8: =別紙①質問書!G6 -> 令和 年 月 日
B10: 岡山県立美術館 管理者 塚本 聡 殿
F12: 所在地 | G12: 〒
F14: 商号又は名称
F15: 代表者名 | I15: 印
F17: （担当者 | J17: ）
F18: （電話番号 | J18: ）
F19: （FAX番号 | J19: ）
B22: 令和８年９月18日付けで公告のあった一般競争入札（条件付）に参加したいので、別添のとおり関係資料を添えて申し込みます。 なお、入札参加資格を満たしていること及び添付書類のすべての記載事項については、事実と相違ないことを誓約します。
E25: 記
B27: １ 公告番号 | D27: 第４３４号
B29: ２ 件 名 | D29: 岡山県立美術館で使用する電気の調達
B31: ３ 納入期間 | D31: 令和８年12月１日から令和11年11月30日まで
B33: ４ 納入場所 | D33: 岡山県岡山市北区天神町８－４８
B36: ５ 添付書類 （ 有 ・ 無 ）
B38: ※添付書類有の場合、書類名を記入
B40: （１）環境配慮条件に関する点数等報告書（別紙②-イ) （２）電気事業法（昭和39年法律第170号）第２条の２の規定により小売電気事業の登録 を受けていることを証明できる書類の写し

Sheet 別紙②-イ環境配慮条件
A1: 別紙②-イ
A2: 環境配慮条件に関する点数等報告書
H3: 令和 年 | I3: 平成 年 月 日
A5: 岡山県立美術館 管理者 塚本 聡 殿
F6: 住 所
F7: 会 社 名
F8: 代 表 者 氏 名 | I8: 印
A11: 岡山県立美術館で使用する電気の調達に係る環境配慮条件に関する当社の点数等については、下記のとおり相違ありません。
A12: 記
A14: 令和６年度の状況
B15: 項目 | G15: 自社の基準値 | I15: 点数
A16: ① | B16: 1kWh当たりの二酸化炭素排出係数 （単位：kg-CO2/kWh） （調整後排出係数適用）
A17: ② | B17: 未利用エネルギー活用状況
A18: ③ | B18: 再生可能エネルギー導入状況
B20: 項目 | G20: 取組の有無 | I20: 点数
A21: ④ | B21: 需要家への省エネルギー・節電に関する情報提供の取組
A23: ①～④の合計点数
A25: 注１：「自社の基準値」、「点数」には、別添３により算出した値を記載すること。
A27: 注２：合計点数が７０点以上の者を、本案件の入札適合者とする。
A29: 注３：条件を満たすことを示す書類を添付すること。（任意様式）

Sheet 別紙③委任状
B2: 別紙③
E4: 委 任 状
B8: 私は、今般 を代理人と定め、下記案件の入札に関する一切の
B9: 権限を委任します。
B11: 記
B14: １ 公告番号 | D14: 第４３４号
B16: ２ 件 名 | D16: 岡山県立美術館で使用する電気の調達
B18: ３ 納入場所 | D18: 岡山県岡山市北区天神町８－４８
B23: =別紙①質問書!G6 -> 令和 年 月 日
B25: 岡山県立美術館 管理者 塚本 聡 殿
D30: 委任者 | F30: 所在地
F32: 商号又は名称
F34: 代表者職氏名 | J34: 印
D37: 受任者 | F37: 住所
J38: 印
F39: 氏 名
J41: 受任印

Sheet 別紙③記載例
B2: 別紙③ | K2: 記載例
E4: 委 任 状
B8: 私は、今般 を代理人と定め、下記案件の入札に関する一切の
B9: 権限を委任します。 | F9: 代理人（受任者の名前のみ）
B11: 記
B14: １ 公告番号 | D14: =別紙③委任状!D14 -> 第４３４号
B16: ２ 件 名 | D16: 岡山県立美術館で使用する電気の調達
B18: ３ 納入場所 | D18: 岡山県岡山市北区天神町８－４８
B23: =別紙③委任状!B23 -> 令和 年 月 日
B25: =別紙③委任状!B25 -> 岡山県立美術館 管理者 塚本 聡 殿
C28: 契約を締結する権限を有している者
D30: 委任者 | F30: 所在地
F32: 商号又は名称 | J32: 資格申請で届け出た印
F34: 代表者職氏名 | K34: 印
C37: 受任者個人の住所・氏名 | I37: 入札書に使用する印（受任者の個人印）
D39: 受任者 | F39: 住所
K40: 印
F41: 氏 名
K43: 受任印

Sheet 別紙④-ア入札書
B1: 別紙④-ア
B3: 入 札 書
B6: ［公告番号］ | F6: =別紙③記載例!D14 -> 第４３４号
B8: ［件 名］ | F8: 岡山県立美術館で使用する電気の調達
B10: ［入 札 額］
B11: 年間予定総額 | F11: 金 | I11: 億 | J11: 千 | K11: 百 | L11: 拾 | M11: 万 | N11: 千 | O11: 百 | P11: 拾 | Q11: 円 | R11: 円
C13: ※消費税及び地方消費税相当額を含まない。
C14: ※入札額は，入札付属書に記載した「参考総価金額」を記載すること。
B16: 岡山県財務規則を熟知し、仕様書に従って、上記の物件を供給するものとして、入札に関する条件を承諾のうえ、上記の金額によって入札します。
B20: =別紙①質問書!G6 -> 令和 年 月 日
B22: 岡山県立美術館 管理者 塚本 聡 殿
K24: 所在地
K25: 商号又は名称
K26: 代表者職氏名 | S26: 印
H28: 代理人 | K28: 住所
K29: 氏名 | S29: 印
B33: ※所在地、商号又は名称、代表者職氏名には、契約を締結する権限を有している者について、
B34: 記入押印してください。
B35: ※代理人が入札する場合には、代理人の「印」の部分に委任状に押印した受任印を押印してください。
B36: なお、この場合には、上段の代表者の印は必要ありません。

Sheet 別紙④-イ入札付属書(県美)
B1: 別紙④-イ
B2: 入札付属書
J3: =別紙①質問書!G6 -> 令和 年 月 日
C4: 岡山県立美術館 管理者 塚本 聡 殿
I5: 入札参加者
I6: （所在地）
I7: （商号又は名称）
K8: ※押印は不要です。
B9: 岡山県立美術館 | K9: （単位：円）
B11: 使用月 | D11: 基 本 料 金 | H11: 電 力 量 料 金 | K11: 月額合計
D12: 契約電力 (kW) | E12: 基本料金 単価 | F12: 力率 割引･ 割増(%) | G12: 小計(A) | H12: 使用予定 電力量 (kWh) | I12: 電力量 料金単価 | J12: 小計(B)
K13: (A)+(B)
B15: 令和８年12月 | D15: 700 | F15: 0.85 | G15: =ROUND(D15*E15*F15,2) -> 0 | H15: 150000 | J15: =H15*I15 -> 0 | K15: =ROUNDDOWN(G15+J15,0) -> 0
B16: 令和９年１月 | D16: 700 | F16: 0.85 | G16: =ROUND(D16*E16*F16,2) -> 0 | H16: 163000 | J16: =H16*I16 -> 0 | K16: =ROUNDDOWN(G16+J16,0) -> 0
B17: 令和９年２月 | D17: 700 | F17: 0.85 | G17: =ROUND(D17*E17*F17,2) -> 0 | H17: 155000 | J17: =H17*I17 -> 0 | K17: =ROUNDDOWN(G17+J17,0) -> 0
B18: 令和９年３月 | D18: 700 | F18: 0.85 | G18: =ROUND(D18*E18*F18,2) -> 0 | H18: 139000 | J18: =H18*I18 -> 0 | K18: =ROUNDDOWN(G18+J18,0) -> 0
B19: 令和９年４月 | D19: 700 | F19: 0.85 | G19: =ROUND(D19*E19*F19,2) -> 0 | H19: 140000 | J19: =H19*I19 -> 0 | K19: =ROUNDDOWN(G19+J19,0) -> 0
B20: 令和９年５月 | D20: 700 | F20: 0.85 | G20: =ROUND(D20*E20*F20,2) -> 0 | H20: 141000 | J20: =H20*I20 -> 0 | K20: =ROUNDDOWN(G20+J20,0) -> 0
B21: 令和９年６月 | D21: 700 | F21: 0.85 | G21: =ROUND(D21*E21*F21,2) -> 0 | H21: 137000 | J21: =H21*I21 -> 0 | K21: =ROUNDDOWN(G21+J21,0) -> 0
B22: 令和９年７月 | D22: 700 | F22: 0.85 | G22: =ROUND(D22*E22*F22,2) -> 0 | H22: 183000 | J22: =H22*I22 -> 0 | K22: =ROUNDDOWN(G22+J22,0) -> 0
B23: 令和９年８月 | D23: 700 | F23: 0.85 | G23: =ROUND(D23*E23*F23,2) -> 0 | H23: 200000 | J23: =H23*I23 -> 0 | K23: =ROUNDDOWN(G23+J23,0) -> 0
B24: 令和９年９月 | D24: 700 | F24: 0.85 | G24: =ROUND(D24*E24*F24,2) -> 0 | H24: 184000 | J24: =H24*I24 -> 0 | K24: =ROUNDDOWN(G24+J24,0) -> 0
B25: 令和９年１０月 | D25: 700 | F25: 0.85 | G25: =ROUND(D25*E25*F25,2) -> 0 | H25: 156000 | J25: =H25*I25 -> 0 | K25: =ROUNDDOWN(G25+J25,0) -> 0
B26: 令和９年１１月 | D26: 700 | F26: 0.85 | G26: =ROUND(D26*E26*F26,2) -> 0 | H26: 150000 | J26: =H26*I26 -> 0 | K26: =ROUNDDOWN(G26+J26,0) -> 0
H27: =SUM(H15:H26) -> 1898000 | I27: 年間予定金額 （R8.12.1～R9.11.30） | K27: =SUM(K15:K26) -> 0
H28: kwh
B30: 使用月 | D30: 基 本 料 金 | H30: 電 力 量 料 金 | K30: 月額合計
D31: 契約電力 (kW) | E31: 基本料金 単価 | F31: 力率 割引･ 割増(%) | G31: 小計(A) | H31: 使用予定 電力量 (kWh) | I31: 電力量 料金単価 | J31: 小計(B)
K32: (A)+(B)
B34: 令和９年１２月 | D34: 700 | F34: 0.85 | G34: =ROUND(D34*E34*F34,2) -> 0 | H34: 150000 | J34: =+H34*I34 -> 0 | K34: =ROUNDDOWN(G34+J34,0) -> 0
B35: 令和１０年１月 | D35: 700 | F35: 0.85 | G35: =ROUND(D35*E35*F35,2) -> 0 | H35: 163000 | J35: =H35*I35 -> 0 | K35: =ROUNDDOWN(G35+J35,0) -> 0
B36: 令和１０年２月 | D36: 700 | F36: 0.85 | G36: =ROUND(D36*E36*F36,2) -> 0 | H36: 155000 | J36: =H36*I36 -> 0 | K36: =ROUNDDOWN(G36+J36,0) -> 0
B37: 令和１０年３月 | D37: 700 | F37: 0.85 | G37: =ROUND(D37*E37*F37,2) -> 0 | H37: 139000 | J37: =H37*I37 -> 0 | K37: =ROUNDDOWN(G37+J37,0) -> 0
B38: 令和１０年４月 | D38: 700 | F38: 0.85 | G38: =ROUND(D38*E38*F38,2) -> 0 | H38: 140000 | J38: =H38*I38 -> 0 | K38: =ROUNDDOWN(G38+J38,0) -> 0
B39: 令和１０年５月 | D39: 700 | F39: 0.85 | G39: =ROUND(D39*E39*F39,2) -> 0 | H39: 141000 | J39: =H39*I39 -> 0 | K39: =ROUNDDOWN(G39+J39,0) -> 0
B40: 令和１０年６月 | D40: 700 | F40: 0.85 | G40: =ROUND(D40*E40*F40,2) -> 0 | H40: 137000 | J40: =H40*I40 -> 0 | K40: =ROUNDDOWN(G40+J40,0) -> 0
B41: 令和１０年７月 | D41: 700 | F41: 0.85 | G41: =ROUND(D41*E41*F41,2) -> 0 | H41: 183000 | J41: =H41*I41 -> 0 | K41: =ROUNDDOWN(G41+J41,0) -> 0
B42: 令和１０年８月 | D42: 700 | F42: 0.85 | G42: =ROUND(D42*E42*F42,2) -> 0 | H42: 200000 | J42: =H42*I42 -> 0 | K42: =ROUNDDOWN(G42+J42,0) -> 0
B43: 令和１０年９月 | D43: 700 | F43: 0.85 | G43: =ROUND(D43*E43*F43,2) -> 0 | H43: 184000 | J43: =H43*I43 -> 0 | K43: =ROUNDDOWN(G43+J43,0) -> 0
B44: 令和１０年１０月 | D44: 700 | F44: 0.85 | G44: =ROUND(D44*E44*F44,2) -> 0 | H44: 156000 | J44: =H44*I44 -> 0 | K44: =ROUNDDOWN(G44+J44,0) -> 0
...
