Workbook

Sheet 様式第1号_交付申請書
A1: 様式第１号
H3: 番号
H4: 年 月 日
A6: 岡山県知事 殿
E10: 補助事業者名
A14: 年度岡山県医療施設等施設整備費補助金
A15: の交付申請書
B19: 標記について、次のとおり補助金を交付されるよう関係書類を添えて申請します。
B22: 1 | C22: 補助申請額 | E22: =IF(F22="","金","") -> 金 | H22: 円
B24: 2 | C24: 事業区分
B26: 3 | C26: 経費所要額調（別紙(１)）
B28: 4 | C28: 事業計画書（別紙(２)）
B30: 5 | C30: 役員一覧表（別紙(３)）
B32: 6 | C32: 誓約書（別紙(４)）
B34: 7 | C34: 添付書類
C35: （１）工事仕様書
C36: （２）工事設計図
C37: （３）工事仕訳書
C38: （４）歳入歳出予算書（見込書）抄本（当該補助事業の支出予定額を備考欄に
C39: 記入すること）
C40: （５）県税完納証明 （「県徴収金等の滞納がないこと」の証明書。補助金交付
C41: 申請書到達日前３ケ月以内のもの。）の写し
C42: （６）その他参考となる書類
B44: (注) | C44: 補助事業者が市町村の場合、役員一覧表及び誓約書の提出は要しない。

Sheet 様式第1号_別紙(1) 経費所要額調
A1: 別紙(１)
A2: 経 費 所 要 額 調
E4: 補助事業者名：
A5: 事 業 区 分 施 設 名 | B5: 総事業費 | C5: 寄附金その 他の収入額 | D5: 差引額 | E5: 対象経費の 支出予定額 | F5: 基 準 額 | G5: 選 定 額 | H5: 県費 補助所要額
B6: Ａ | C6: Ｂ | D6: Ａ-Ｂ=Ｃ | E6: Ｄ | F6: Ｅ | G6: Ｆ | H6: Ｇ
B7: 円 | C7: 円 | D7: 円 | E7: 円 | F7: 円 | G7: 円 | H7: 円
D8: =IF(B8="","",(B8-C8)) | G8: =IF(B8="","",MIN(E8,F8))
D9: =IF(A9="","",(B9-C9)) | G9: =IF(A9="","",MIN(E9,F9)) | J9: =VLOOKUP(A8,'管理用（このシートは削除しないでください）'!$K$3:$P$19,2,FALSE) -> #N/A | K9: =VLOOKUP(A8,'管理用（このシートは削除しないでください）'!$K$3:$P$19,3,) -> #N/A | L9: =VLOOKUP(A8,'管理用（このシートは削除しないでください）'!$K$3:$P$19,4,FALSE) -> #N/A | M9: =VLOOKUP(A8,'管理用（このシートは削除しないでください）'!$K$3:$P$19,5,FALSE) -> #N/A | N9: =VLOOKUP(A8,'管理用（このシートは削除しないでください）'!$K$3:$P$19,6,FALSE) -> #N/A
D10: =IF(B10="","",(B10-C10)) | G10: =IF(B10="","",MIN(E10,F10)) | J10: =VLOOKUP(A9,'管理用（このシートは削除しないでください）'!$K$3:$P$19,2,FALSE) -> #N/A | K10: =VLOOKUP(A9,'管理用（このシートは削除しないでください）'!$K$3:$P$19,3,) -> #N/A | L10: =VLOOKUP(A9,'管理用（このシートは削除しないでください）'!$K$3:$P$19,4,FALSE) -> #N/A | M10: =VLOOKUP(A9,'管理用（このシートは削除しないでください）'!$K$3:$P$19,5,FALSE) -> #N/A | N10: =VLOOKUP(A9,'管理用（このシートは削除しないでください）'!$K$3:$P$19,6,FALSE) -> #N/A
D11: =IF(A11="","",(B11-C11)) | G11: =IF(A11="","",MIN(E11,F11)) | J11: =VLOOKUP(A10,'管理用（このシートは削除しないでください）'!$K$3:$P$19,2,FALSE) -> #N/A | K11: =VLOOKUP(A10,'管理用（このシートは削除しないでください）'!$K$3:$P$19,3,) -> #N/A | L11: =VLOOKUP(A10,'管理用（このシートは削除しないでください）'!$K$3:$P$19,4,FALSE) -> #N/A | M11: =VLOOKUP(A10,'管理用（このシートは削除しないでください）'!$K$3:$P$19,5,FALSE) -> #N/A | N11: =VLOOKUP(A10,'管理用（このシートは削除しないでください）'!$K$3:$P$19,6,FALSE) -> #N/A
D12: =IF(B12="","",(B12-C12)) | G12: =IF(B12="","",MIN(E12,F12)) | J12: =VLOOKUP(A11,'管理用（このシートは削除しないでください）'!$K$3:$P$19,2,FALSE) -> #N/A | K12: =VLOOKUP(A11,'管理用（このシートは削除しないでください）'!$K$3:$P$19,3,) -> #N/A | L12: =VLOOKUP(A11,'管理用（このシートは削除しないでください）'!$K$3:$P$19,4,FALSE) -> #N/A | M12: =VLOOKUP(A11,'管理用（このシートは削除しないでください）'!$K$3:$P$19,5,FALSE) -> #N/A | N12: =VLOOKUP(A11,'管理用（このシートは削除しないでください）'!$K$3:$P$19,6,FALSE) -> #N/A
D13: =IF(A13="","",(B13-C13)) | G13: =IF(A13="","",MIN(E13,F13)) | J13: =VLOOKUP(A12,'管理用（このシートは削除しないでください）'!$K$3:$P$19,2,FALSE) -> #N/A | K13: =VLOOKUP(A12,'管理用（このシートは削除しないでください）'!$K$3:$P$19,3,) -> #N/A | L13: =VLOOKUP(A12,'管理用（このシートは削除しないでください）'!$K$3:$P$19,4,FALSE) -> #N/A | M13: =VLOOKUP(A12,'管理用（このシートは削除しないでください）'!$K$3:$P$19,5,FALSE) -> #N/A | N13: =VLOOKUP(A12,'管理用（このシートは削除しないでください）'!$K$3:$P$19,6,FALSE) -> #N/A
D14: =IF(B14="","",(B14-C14)) | G14: =IF(B14="","",MIN(E14,F14)) | J14: =VLOOKUP(A13,'管理用（このシートは削除しないでください）'!$K$3:$P$19,2,FALSE) -> #N/A | K14: =VLOOKUP(A13,'管理用（このシートは削除しないでください）'!$K$3:$P$19,3,) -> #N/A | L14: =VLOOKUP(A13,'管理用（このシートは削除しないでください）'!$K$3:$P$19,4,FALSE) -> #N/A | M14: =VLOOKUP(A13,'管理用（このシートは削除しないでください）'!$K$3:$P$19,5,FALSE) -> #N/A | N14: =VLOOKUP(A13,'管理用（このシートは削除しないでください）'!$K$3:$P$19,6,FALSE) -> #N/A
D15: =IF(A15="","",(B15-C15)) | G15: =IF(A15="","",MIN(E15,F15)) | J15: =VLOOKUP(A14,'管理用（このシートは削除しないでください）'!$K$3:$P$19,2,FALSE) -> #N/A | K15: =VLOOKUP(A14,'管理用（このシートは削除しないでください）'!$K$3:$P$19,3,) -> #N/A | L15: =VLOOKUP(A14,'管理用（このシートは削除しないでください）'!$K$3:$P$19,4,FALSE) -> #N/A | M15: =VLOOKUP(A14,'管理用（このシートは削除しないでください）'!$K$3:$P$19,5,FALSE) -> #N/A | N15: =VLOOKUP(A14,'管理用（このシートは削除しないでください）'!$K$3:$P$19,6,FALSE) -> #N/A
D16: =IF(B16="","",(B16-C16)) | G16: =IF(B16="","",MIN(E16,F16)) | J16: =VLOOKUP(#REF!,'管理用（このシートは削除しないでください）'!$K$3:$P$19,2,FALSE) -> #REF! | K16: =VLOOKUP(#REF!,'管理用（このシートは削除しないでください）'!$K$3:$P$19,3,) -> #REF! | L16: =VLOOKUP(#REF!,'管理用（このシートは削除しないでください）'!$K$3:$P$19,4,FALSE) -> #REF! | M16: =VLOOKUP(#REF!,'管理用（このシートは削除しないでください）'!$K$3:$P$19,5,FALSE) -> #REF! | N16: =VLOOKUP(#REF!,'管理用（このシートは削除しないでください）'!$K$3:$P$19,6,FALSE) -> #REF!
D17: =IF(A17="","",(B17-C17)) | G17: =IF(A17="","",MIN(E17,F17)) | J17: =VLOOKUP(A16,'管理用（このシートは削除しないでください）'!$K$3:$P$19,2,FALSE) -> #N/A | K17: =VLOOKUP(A16,'管理用（このシートは削除しないでください）'!$K$3:$P$19,3,) -> #N/A | L17: =VLOOKUP(A16,'管理用（このシートは削除しないでください）'!$K$3:$P$19,4,FALSE) -> #N/A | M17: =VLOOKUP(A16,'管理用（このシートは削除しないでください）'!$K$3:$P$19,5,FALSE) -> #N/A | N17: =VLOOKUP(A16,'管理用（このシートは削除しないでください）'!$K$3:$P$19,6,FALSE) -> #N/A
A18: 合計 | B18: =IF(SUM(B8:B17)=0,"",SUM(B8:B17)) | C18: =IF(B18="","",SUM(C8:C17)) | D18: =IF(SUM(D8:D17)=0,"",SUM(D8:D17)) | E18: =IF(SUM(E8:E17)=0,"",SUM(E8:E17)) | F18: =IF(SUM(F8:F17)=0,"",SUM(F8:F17)) | G18: =IF(SUM(G8:G17)=0,"",SUM(G8:G17)) | H18: =IF(SUM(H8:H17)=0,"",SUM(H8:H17))
A20: 【留意事項】
A21: １ 「事業区分」欄、上段には交付の対象となる事業の名称を、下段には施設の名称を記載すること。
A22: ２ 「選定額」欄は、(D)と(E)とを比較して少ない方の額を記入すること。

Sheet 様式第1号_別紙(2) 事業計画書
A1: 別紙(２)
A2: 事 業 計 画 書
A4: 事業区分
A5: 補助事業者名 | D5: 施設名 | H5: 所在地
A7: 施工内容 | D7: 新築 | J7: ←プルダウンから選択
A8: 敷地の状況 | D8: 敷地面積 | H8: ㎡ | I8: 自己所有 | J8: ←プルダウンから選択
A9: 建物の構造及び面積
D10: 構造： | E10: 木造 | H10: ○階建 | J10: ←構造はプルダウンから選択
D11: 建築面積 | H11: ㎡
D12: 延べ面積 | H12: ㎡
A13: 施工期間 | D13: 着工 | E13: 年 月 日 | G13: ～ | H13: 竣工 | I13: 年 月 日
A14: 整備費内訳
A15: 区 分 | B15: 費 目 | E15: 面 積 | G15: 単 価 | H15: 金 額 | I15: 備 考
E16: ㎡ | G16: 円 | H16: 円
A17: 補助対象事業分 | G17: =IF(H17="","",H17/E17)
G18: =IF(H18="","",H18/E18)
G19: =IF(H19="","",H19/E19)
G20: =IF(H20="","",H20/E20)
G21: =IF(H21="","",H21/E21)
G22: =IF(H22="","",H22/E22)
G23: =IF(H23="","",H23/E23)
G24: =IF(H24="","",H24/E24)
G25: =IF(H25="","",H25/E25)
B26: 小 計 | E26: =IF(SUM(E17:F25)=0,"",SUM(E17:F25)) | G26: =IF(H26="","",H26/E26) | H26: =IF(SUM(H17:H25)=0,"",SUM(H17:H25))
E27: ㎡ | G27: 円 | H27: 円 | J27: 単価、小計、合計は自動計算
A28: 補助対象外事業分 | G28: =IF(H28="","",H28/E28)
G29: =IF(H29="","",H29/E29)
G30: =IF(H30="","",H30/E30)
G31: =IF(H31="","",H31/E31)
G32: =IF(H32="","",H32/E32)
G33: =IF(H33="","",H33/E33)
G34: =IF(H34="","",H34/E34)
G35: =IF(H35="","",H35/E35)
G36: =IF(H36="","",H36/E36)
B37: 小 計 | E37: =IF(SUM(E28:F36)=0,"",SUM(E28:F36)) | G37: =IF(H37="","",H37/E37) | H37: =IF(SUM(H28:H36)=0,"",SUM(H28:H36))
A38: 合 計 | E38: =IF(E37="",E26,E26+E37) | G38: =IF(H38="","",H38/E38) | H38: =IF(H37="",H26,H26+H37)
A39: 財源内訳
A40: 区分 | E40: 金額 | H40: 備考
E41: 円 | H41: （内 訳）
A42: (1) 補助金 | E42: =IF(E43="","",E43+E44) | J42: ←国と都道府県の合計は自動計算
...

Sheet 様式第2号_変更承認申請書
A1: 様式第２号
H3: 番号
H4: 年 月 日
A6: 岡山県知事 殿
E10: 補助事業者名
A14: 年度岡山県医療施設等施設整備費補助金の
A15: 交付決定変更（補助事業中止(廃止)）の承認申請書
B19: 年 月 日岡山県指令保医第 号で交付決定通知のあった令和 年度岡山県医療施設等施設整備費補助金について、下記のとおり変更（事業を中止又は廃止）したいので、関係書類を添えて、その承認を申請します。
B22: 1 | C22: 変更（中止又は廃止）の理由
B24: 2 | C24: 変更の内容
B26: 3 | C26: 経費所要額調
B28: 4 | C28: 事業計画書
B30: 5 | C30: 添付書類
B33: (注) | C33: 変更の場合における３、４、５の書類は様式第１号に準じて作成すること。

Sheet 様式第3号_事業遂行状況報告書
A1: 様式第３号
H3: 番号
H4: 年 月 日
A6: 岡山県知事 殿
E10: 補助事業者名
A15: 年度岡山県医療施設等施設整備費補助金
A16: の補助対象事業の遂行状況報告書
B22: このことについて、別表のとおり報告します。

Sheet 様式第3号_別表
A1: 別 表
A4: 事 業 区 分 | D4: 施 設 名 | I4: 所 在 地
A5: =IF('様式第1号_別紙(2) 事業計画書'!D4="","",'様式第1号_別紙(2) 事業計画書'!D4) | D5: =IF('様式第1号_別紙(2) 事業計画書'!D6:G6="","",'様式第1号_別紙(2) 事業計画書'!D6:G6) | I5: =IF('様式第1号_別紙(2) 事業計画書'!H6:I6="","",'様式第1号_別紙(2) 事業計画書'!H6:I6) | P5: ←第2号様式別紙2より自動で反映
A8: １．事業施行状況 | L8: ○年 月 日現在
A9: 区 分 | C9: 施 工 面 積 | F9: 工 事 施 工 率 | I9: 金 額 | L9: 備 考
E10: ㎡ | H10: ％ | K10: 円
A11: 自 年 月 日
A12: 至 年 月 日
A13: 現在竣工量
A15: 自 年 月 日
A16: 至 年 月 日
A17: まで竣工見込量
A19: 計 | C19: =IF((C12+C16)=0,"",(C12+C16)) | F19: =IF((F12+F16)=0,"",(F12+F16)) | I19: =IF((I12+I16)=0,"",(I12+I16)) | P19: ←自動計算
A23: ２．工事進捗状況 | L23: =L8 -> ○年 月 日現在 | P23: ←１．「事業施工状況」の日付を自動で反映
B24: ○年 | L24: ○年
A25: 工事名
A28: 設計事務
A30: 入札事務
A32: 整地工事
A34: 基礎工事
A36: ○○工事
A38: 【留意事項】
A39: １ 工事予定を点線の棒線で示し、その上に工事進捗状況を実線の棒線で示すこと。
A40: ２ 工事名ごとに工事進捗状況（出来高）を％をもって示すこと。
A43: ３．繰越予定状況
A44: 請 負 契 約 額 | B44: 年 度 内 完 成 （見 込） | J44: 繰 越 予 定 | M44: 繰 越 理 由
B45: =L8 -> ○年 月 日現在 | F45: 年 度 末 現 在 （見 込）
D46: 円 | E46: ％ | H46: 円 | I46: ％ | K46: 円 | L46: ％
A47: （全体契約額）
E48: =IF(A48="","",(B48/A48)*100) | I48: =IF(A48="","",(F48/A48)*100)
A49: 円
A51: （うち国庫補助金分）
E52: =IF(A48="","",(B52/A52)*100) | I52: =IF(A48="","",(F52/A52)*100)
A53: 円
A55: 【留意事項】
A56: 請負契約額欄の（うち国庫補助金分）は、交付決定額を記入すること。

Sheet 様式第4号_事業実績報告書
A1: 様式第４号
H3: 番号
H4: 年 月 日
A6: 岡山県知事 殿
E10: 補助事業者名
A14: 年度岡山県医療施設等施設整備費補助金
A15: の事業実績報告書
B19: 年 月 日岡山県指令保医第 号で交付決定を受けた 年度岡山県医療施設等施設整備費補助金の実績について、次のとおり関係書類を添えて報告します。
B22: 1 | C22: 補助精算額 | E22: =IF(F22="","金","") -> 金 | H22: 円
B24: 2 | C24: 事業区分
B26: 3 | C26: 経費所要額精算書 （別紙(１)）
B28: 4 | C28: 事業実績報告書 （別紙(２)）
B30: 5 | C30: 添付書類
C31: （１）歳入歳出決算書（見込書）抄本（当該補助事業の決算額を備考欄に記入すること。）
C32: （２）完成後の建物の全景及び事業の概要を示す写真
C33: （３）契約書の写し
C34: （４）完成後の建物の構造概要及び平面図（各室の用途を示すこと。）
C35: （５）工事仕様書、工事設計図及び工事仕訳書
C36: （６）建築基準法第７条第３項の規定による竣工検査書の写し
C37: （７）その他参考となるべき書類

Sheet 様式第4号_別紙(1) 経費所要額精算書
A1: 別紙(１)
A2: 経 費 所 要 額 精 算 書
I4: 補助事業者名：
A5: 事 業 区 分 施 設 名 | B5: 総事業費 | C5: 寄附金その 他の収入額 | D5: 差引額 | E5: 対象経費の 実支出額 | F5: 基準額 | G5: 選定額 | H5: 市町村 補 助 額 | I5: 県費補助 所 要 額 | J5: 県補助 交付決定額 | K5: 県費補助 受入済額 | L5: 差引過△ 不足額
B6: Ａ | C6: Ｂ | D6: Ａ-Ｂ=Ｃ | E6: Ｄ | F6: Ｅ | G6: Ｆ | H6: Ｇ | I6: H | J6: I | K6: J | L6: J－H=K
B7: 円 | C7: 円 | D7: 円 | E7: 円 | F7: 円 | G7: 円 | H7: 円 | I7: 円 | J7: 円 | K7: 円 | L7: 円
D8: =IF(B8="","",(B8-C8)) | G8: =IF(B8="","",MIN(E8,F8))
D9: =IF(B9="","",(B9-C9)) | G9: =IF(B9="","",MIN(E9,F9)) | L9: =IF(B9="","",(K9-#REF!)) | N9: =VLOOKUP(A8,'管理用（このシートは削除しないでください）'!$K$3:$P$19,2,FALSE) -> #N/A | O9: =VLOOKUP(A8,'管理用（このシートは削除しないでください）'!$K$3:$P$19,3,) -> #N/A | P9: =VLOOKUP(A8,'管理用（このシートは削除しないでください）'!$K$3:$P$19,4,FALSE) -> #N/A | Q9: =VLOOKUP(A8,'管理用（このシートは削除しないでください）'!$K$3:$P$19,5,FALSE) -> #N/A | R9: =VLOOKUP(A8,'管理用（このシートは削除しないでください）'!$K$3:$P$19,6,FALSE) -> #N/A
D10: =IF(B10="","",(B10-C10)) | G10: =IF(B10="","",MIN(E10,F10)) | N10: =VLOOKUP(A9,'管理用（このシートは削除しないでください）'!$K$3:$P$19,2,FALSE) -> #N/A | O10: =VLOOKUP(A9,'管理用（このシートは削除しないでください）'!$K$3:$P$19,3,) -> #N/A | P10: =VLOOKUP(A9,'管理用（このシートは削除しないでください）'!$K$3:$P$19,4,FALSE) -> #N/A | Q10: =VLOOKUP(A9,'管理用（このシートは削除しないでください）'!$K$3:$P$19,5,FALSE) -> #N/A | R10: =VLOOKUP(A9,'管理用（このシートは削除しないでください）'!$K$3:$P$19,6,FALSE) -> #N/A
D11: =IF(B11="","",(B11-C11)) | G11: =IF(B11="","",MIN(E11,F11)) | I11: =IF(B11="","",ROUNDDOWN(IF(P11="B",#REF!,IF(H11="-",#REF!*Q11,#REF!*R11)),-3)) | L11: =IF(B11="","",(K11-#REF!)) | N11: =VLOOKUP(A10,'管理用（このシートは削除しないでください）'!$K$3:$P$19,2,FALSE) -> #N/A | O11: =VLOOKUP(A10,'管理用（このシートは削除しないでください）'!$K$3:$P$19,3,) -> #N/A | P11: =VLOOKUP(A10,'管理用（このシートは削除しないでください）'!$K$3:$P$19,4,FALSE) -> #N/A | Q11: =VLOOKUP(A10,'管理用（このシートは削除しないでください）'!$K$3:$P$19,5,FALSE) -> #N/A | R11: =VLOOKUP(A10,'管理用（このシートは削除しないでください）'!$K$3:$P$19,6,FALSE) -> #N/A
D12: =IF(B12="","",(B12-C12)) | G12: =IF(B12="","",MIN(E12,F12)) | N12: =VLOOKUP(A11,'管理用（このシートは削除しないでください）'!$K$3:$P$19,2,FALSE) -> #N/A | O12: =VLOOKUP(A11,'管理用（このシートは削除しないでください）'!$K$3:$P$19,3,) -> #N/A | P12: =VLOOKUP(A11,'管理用（このシートは削除しないでください）'!$K$3:$P$19,4,FALSE) -> #N/A | Q12: =VLOOKUP(A11,'管理用（このシートは削除しないでください）'!$K$3:$P$19,5,FALSE) -> #N/A | R12: =VLOOKUP(A11,'管理用（このシートは削除しないでください）'!$K$3:$P$19,6,FALSE) -> #N/A
D13: =IF(B13="","",(B13-C13)) | G13: =IF(B13="","",MIN(E13,F13)) | I13: =IF(B13="","",ROUNDDOWN(IF(P13="B",#REF!,IF(H13="-",#REF!*Q13,#REF!*R13)),-3)) | L13: =IF(B13="","",(K13-#REF!)) | N13: =VLOOKUP(A12,'管理用（このシートは削除しないでください）'!$K$3:$P$19,2,FALSE) -> #N/A | O13: =VLOOKUP(A12,'管理用（このシートは削除しないでください）'!$K$3:$P$19,3,) -> #N/A | P13: =VLOOKUP(A12,'管理用（このシートは削除しないでください）'!$K$3:$P$19,4,FALSE) -> #N/A | Q13: =VLOOKUP(A12,'管理用（このシートは削除しないでください）'!$K$3:$P$19,5,FALSE) -> #N/A | R13: =VLOOKUP(A12,'管理用（このシートは削除しないでください）'!$K$3:$P$19,6,FALSE) -> #N/A
D14: =IF(B14="","",(B14-C14)) | G14: =IF(B14="","",MIN(E14,F14)) | N14: =VLOOKUP(A13,'管理用（このシートは削除しないでください）'!$K$3:$P$19,2,FALSE) -> #N/A | O14: =VLOOKUP(A13,'管理用（このシートは削除しないでください）'!$K$3:$P$19,3,) -> #N/A | P14: =VLOOKUP(A13,'管理用（このシートは削除しないでください）'!$K$3:$P$19,4,FALSE) -> #N/A | Q14: =VLOOKUP(A13,'管理用（このシートは削除しないでください）'!$K$3:$P$19,5,FALSE) -> #N/A | R14: =VLOOKUP(A13,'管理用（このシートは削除しないでください）'!$K$3:$P$19,6,FALSE) -> #N/A
D15: =IF(B15="","",(B15-C15)) | G15: =IF(B15="","",MIN(E15,F15)) | I15: =IF(B15="","",ROUNDDOWN(IF(P15="B",#REF!,IF(H15="-",#REF!*Q15,#REF!*R15)),-3)) | L15: =IF(B15="","",(K15-#REF!)) | N15: =VLOOKUP(A14,'管理用（このシートは削除しないでください）'!$K$3:$P$19,2,FALSE) -> #N/A | O15: =VLOOKUP(A14,'管理用（このシートは削除しないでください）'!$K$3:$P$19,3,) -> #N/A | P15: =VLOOKUP(A14,'管理用（このシートは削除しないでください）'!$K$3:$P$19,4,FALSE) -> #N/A | Q15: =VLOOKUP(A14,'管理用（このシートは削除しないでください）'!$K$3:$P$19,5,FALSE) -> #N/A | R15: =VLOOKUP(A14,'管理用（このシートは削除しないでください）'!$K$3:$P$19,6,FALSE) -> #N/A
D16: =IF(B16="","",(B16-C16)) | G16: =IF(B16="","",MIN(E16,F16)) | N16: =VLOOKUP(#REF!,'管理用（このシートは削除しないでください）'!$K$3:$P$19,2,FALSE) -> #REF! | O16: =VLOOKUP(#REF!,'管理用（このシートは削除しないでください）'!$K$3:$P$19,3,) -> #REF! | P16: =VLOOKUP(#REF!,'管理用（このシートは削除しないでください）'!$K$3:$P$19,4,FALSE) -> #REF! | Q16: =VLOOKUP(#REF!,'管理用（このシートは削除しないでください）'!$K$3:$P$19,5,FALSE) -> #REF! | R16: =VLOOKUP(#REF!,'管理用（このシートは削除しないでください）'!$K$3:$P$19,6,FALSE) -> #REF!
D17: =IF(B17="","",(B17-C17)) | G17: =IF(B17="","",MIN(E17,F17)) | I17: =IF(B17="","",ROUNDDOWN(IF(P17="B",#REF!,IF(H17="-",#REF!*Q17,#REF!*R17)),-3)) | L17: =IF(B17="","",(K17-#REF!)) | N17: =VLOOKUP(A16,'管理用（このシートは削除しないでください）'!$K$3:$P$19,2,FALSE) -> #N/A | O17: =VLOOKUP(A16,'管理用（このシートは削除しないでください）'!$K$3:$P$19,3,) -> #N/A | P17: =VLOOKUP(A16,'管理用（このシートは削除しないでください）'!$K$3:$P$19,4,FALSE) -> #N/A | Q17: =VLOOKUP(A16,'管理用（このシートは削除しないでください）'!$K$3:$P$19,5,FALSE) -> #N/A | R17: =VLOOKUP(A16,'管理用（このシートは削除しないでください）'!$K$3:$P$19,6,FALSE) -> #N/A
A18: 合計 | B18: =IF(SUM(B8:B17)=0,"",SUM(B8:B17)) | C18: =IF(B18="","",SUM(C8:C17)) | D18: =IF(SUM(D8:D17)=0,"",SUM(D8:D17)) | E18: =IF(SUM(E8:E17)=0,"",SUM(E8:E17)) | F18: =IF(SUM(F8:F17)=0,"",SUM(F8:F17)) | G18: =IF(SUM(G8:G17)=0,"",SUM(G8:G17)) | H18: =IF(SUM(H8:H17)=0,"",SUM(H8:H17)) | I18: =IF(SUM(I8:I17)=0,"",SUM(I8:I17)) | J18: =IF(SUM(J8:J17)=0,"",SUM(J8:J17)) | K18: =IF(SUM(K8:K17)=0,"",SUM(K8:K17)) | L18: =IF(SUM(L8:L17)=0,"",SUM(L8:L17))
A20: 【留意事項】
A21: １ 「事業区分」欄、上段には交付の対象となる事業の名称を、下段には施設の名称を記載すること。
A22: ２ 「選定額」欄は、(D)と(E)とを比較して少ない方の額を記入すること。
A23: ３ （Ｇ）欄は、間接補助事業についてのみ記載すること。

Sheet 様式第4号_別紙(2) 事業実績報告書
A1: 別紙(２)
A2: 事 業 実 績 報 告 書
A4: 事業区分 | D4: =IF('様式第1号_別紙(2) 事業計画書'!D4:I4="","",'様式第1号_別紙(2) 事業計画書'!D4:I4) | J4: ←第2号様式別紙2より自動で反映
A5: 補助事業者名 | D5: 施設名 | H5: 所在地
D6: =IF('様式第1号_別紙(2) 事業計画書'!D6:G6="","",'様式第1号_別紙(2) 事業計画書'!D6:G6) | H6: =IF('様式第1号_別紙(2) 事業計画書'!H6:I6="","",'様式第1号_別紙(2) 事業計画書'!H6:I6) | J6: ←第2号様式別紙2より自動で反映
A7: 施工内容 | D7: =IF('様式第1号_別紙(2) 事業計画書'!D7:I7="","",'様式第1号_別紙(2) 事業計画書'!D7:I7) -> 新築 | J7: ←第2号様式別紙2より自動で反映
A8: 建物の構造及び面積
D9: 構造： | H9: ○階建 | J9: ←構造はプルダウンから選択
D10: 建築面積 | G10: ㎡
D11: 延べ面積 | G11: ㎡
A12: 施工期間 | D12: 着工 | E12: 年 月 日 | G12: ～ | H12: 竣工 | I12: 年 月 日
A13: 整備費内訳
A14: 区 分 | B14: 費 目 | E14: 面 積 | G14: 単 価 | H14: 金 額 | I14: 備 考
E15: ㎡ | G15: 円 | H15: 円
A16: 補助対象事業分 | G16: =IF(H16="","",H16/E16)
G17: =IF(H17="","",H17/E17)
G18: =IF(H18="","",H18/E18)
G19: =IF(H19="","",H19/E19)
G20: =IF(H20="","",H20/E20)
G21: =IF(H21="","",H21/E21)
G22: =IF(H22="","",H22/E22)
G23: =IF(H23="","",H23/E23)
G24: =IF(H24="","",H24/E24)
B25: 小 計 | E25: =IF(SUM(E16:F24)=0,"",SUM(E16:F24)) | G25: =IF(H25="","",H25/E25) | H25: =IF(SUM(H16:H24)=0,"",SUM(H16:H24))
E26: ㎡ | G26: 円 | H26: 円 | J26: 単価、小計、合計は自動計算
A27: 補助対象外事業分 | G27: =IF(H27="","",H27/E27)
G28: =IF(H28="","",H28/E28)
G29: =IF(H29="","",H29/E29)
G30: =IF(H30="","",H30/E30)
G31: =IF(H31="","",H31/E31)
G32: =IF(H32="","",H32/E32)
G33: =IF(H33="","",H33/E33)
G34: =IF(H34="","",H34/E34)
G35: =IF(H35="","",H35/E35)
B36: 小 計 | E36: =IF(SUM(E27:F35)=0,"",SUM(E27:F35)) | G36: =IF(H36="","",H36/E36) | H36: =IF(SUM(H27:H35)=0,"",SUM(H27:H35))
A37: 合 計 | E37: =IF(E36="",E25,E25+E36) | G37: =IF(H37="","",H37/E37) | H37: =IF(H36="",H25,H25+H36)
A38: 財源内訳
A39: 区分 | E39: 金額 | H39: 備考
E40: 円 | H40: （内 訳）
A41: (1) 補助金 | E41: =IF(E42="","",E42+E43) | J41: ←国と都道府県の合計は自動計算
...

Sheet 様式第5号_消費税仕入控除
A1: 様式第５号
H2: 番号
H3: 年 月 日
A5: 岡山県知事 殿
E7: 補助事業者名
A9: 年度消費税及び地方消費税に係る仕入控除税額報告書
B13: 年 月 日付け、岡山県指令保医第 号で交付決定を受けた 年度岡山県医療施設等施設整備費補助金について、交付決定通知により付された条件に基づき、下記のとおり報告します。
B15: 1 | C15: 事業区分及び施設の名称
B18: 2 | C18: 岡山県補助金等交付規則第１４条に基づく額の確定額又は事業実績 報告書による精算額
F20: =IF(G20="","金","") -> 金 | I20: 円
B22: 3 | C22: 消費税及び地方消費税の申告により確定した消費税及び地方消費税 に係る仕入控除税額（補助金返還相当額）
F24: =IF(G24="","金","") -> 金 | I24: 円
B26: 4 | C26: 添付書類
C27: ・２の消費税及び地方消費税に係る仕入控除税額の積算内訳
C28: ・補助金の交付決定を受けた年度の消費税の確定申告書及び付表２の写し等

Sheet 管理用（このシートは削除しないでください）
B1: 敷地の状況 | D1: 施工内容 | F1: 構造 | K1: 所要額計算
L2: 分類 | M2: 国庫補助 基本額係数 | N2: 再分類 | O2: 国庫補助 所要額係数 （直接、都道府県） | P2: 国庫補助 所要額係数 （間接）
B3: 自己所有 | D3: 新築 | F3: 鉄骨鉄筋コンクリート造 | K3: へき地診療所施設整備事業 | L3: b | M3: 0.5 | N3: A | O3: 0.5 | P3: 1
B4: 借地 | D4: 移転新築 | F4: 鉄筋コンクリート造 | K4: 過疎地域等特定診療所施設整備事業 | L4: b | M4: 0.75 | N4: A | O4: 0.5 | P4: 0.66666667
B5: 買入（予定） | D5: 改築 | F5: 鉄骨造（鉄筋コンクリート造と同等の強度） | K5: へき地保健指導所施設整備事業 | L5: b | M5: 0.33333333 | N5: A | O5: 0.33333333 | P5: 1
D6: 増築 | F6: 鉄骨造（ブロック造と同等の強度） | K6: 研修医のための研修施設整備事業 | L6: c | M6: - | N6: A | O6: 0.5 | P6: 0.5
D7: 改修 | F7: ブロック造 | K7: 臨床研修病院施設整備事業 | L7: c | M7: - | N7: A | O7: 0.5 | P7: 0.5
F8: 木造 | K8: へき地医療拠点病院施設整備事業 | L8: a | M8: - | N8: A | O8: 0.5 | P8: 0.5
F9: プレハブ造 | K9: 医師臨床研修病院研修医環境整備事業 | L9: b | M9: 0.66666667 | N9: A | O9: 0.33333333 | P9: 0.5
F10: その他 | K10: 離島等患者宿泊施設施設整備事業 | L10: b | M10: 0.66666667 | N10: A | O10: 0.33333333 | P10: 0.5
K11: 分娩取扱施設施設整備事業 | L11: b | M11: 0.5 | N11: A | O11: 0.5 | P11: 1
K12: 解剖・死亡時画像診断等施設整備事業 | L12: b | M12: 0.5 | N12: A | O12: 0.5 | P12: 1
K13: 南海トラフ及び日本海溝・千島海溝周辺海溝型地震に係る津波避難対策緊急事業 | L13: b | M13: 0.5 | N13: A | O13: 0.5 | P13: 1
K14: 院内感染対策施設整備事業 | L14: b | M14: 0.33333333 | N14: A | O14: 0.33333333 | P14: 1
K15: 医療施設ブロック塀改修等施設整備事業 | L15: b | M15: 0.33333333 | N15: B | O15: 0.33333333 | P15: 1
K16: 新興感染症対応力強化事業（病室の感染対策に係る整備） | L16: b | M16: 0.66666667 | N16: A | O16: 0.33333333 | P16: 0.5
K17: 新興感染症対応力強化事業（病室の感染対策に係る整備以外） | L17: a | M17: - | N17: A | O17: 0.5 | P17: 0.5
K18: 重点医師偏在対策支援区域における診療所の承継・開業支援事業 | L18: b | M18: 0.5 | N18: A | O18: 0.33333333 | P18: 0.66666667
K19: 重点医師偏在対策支援区域における医師の勤務・生活環境改善のための施設整備事業 | L19: b | M19: 0.5 | N19: A | O19: 0.33333333 | P19: 0.66666667
